BEGIN:VCALENDAR
VERSION:2.0
PRODID:-//wp-events-plugin.com//7.2.3.1//EN
BEGIN:VEVENT
UID:2@medusaboxingseries.com
DTSTART;VALUE=DATE:20241013
DTEND;VALUE=DATE:20241014
DTSTAMP:20241009T142809Z
URL:https://medusaboxingseries.com/events/christina-zaboura-vs-eleni-xagor
 ari/
SUMMARY:ΧΡΙΣΤΙΝΑ ΖΑΜΠΟΥΡΑ VS ΕΛΕΝΗ ΞΑΓΟΡΑΡΗ
DESCRIPTION:Η Medusa Boxing Series καλωσορίζει στο ρινγ
 κ της έναν από τους γυναικείους αγώνες τ
 ης βραδιάς!\n\nΗ Χριστίνα Ζαμπούρα από το G
 rapsas Team με προπονητή τον Γιάννη Γράψα έρχ
 εται να αντιμετωπίσει την Ελένη Ξαγοράρ
 η από το Andreadis Boxing Club με προπονητή τον Νίκ
 ο Ανδρεάδη σε ένα παιχνίδι τεσσάρων γύρω
 ν στα 62 κιλά!\n\nΗ πολύτιμη εμπειρία της Χρ
 ιστίνας στα μαχητικά αθλήματα\, με παγκό
 σμιους και πανευρωπαϊκούς τίτλους μουάι
  τάι στην κατοχή της\, συναντά την επίσης 
 πολύπειρη πρωταθλήτρια Ελλάδος\, Ελένη\, 
 και θα μας χαρίσουν έναν εκπληκτικό αγών
 α χωρίς φόβο αλλά με πολύ πάθος!\n\nΥπενθυ
 μίζουμε ότι μέρος των εσόδων της διοργάν
 ωσης θα διατεθεί στην υποστήριξη του Κέν
 τρου Διοτίμα\, που παρέχει νομική και ψυχ
 οκοινωνική βοήθεια σε γυναίκες που βιών
 ουν έμφυλη βία.
ATTACH;FMTTYPE=image/jpeg:https://medusaboxingseries.com/wp-content/upload
 s/2024/10/zampura-ksagorasi.jpg
LOCATION:ΟΛΥΜΠΙΑΚΟ ΑΘΛΗΤΙΚΟ ΚΕΝΤΡΟ ΑΘΗΝΩΝ “
 ΣΠΥΡΟΣ ΛΟΥΗΣ” - ΑΙΘΟΥΣΑ ΓΙΩΡΓΟΣ ΚΑΣΙΜΑΤ
 ΗΣ\, Λεωφ. Κηφισίας 37\, Μαρούσι\, Αθήνα\, 151 2
 3\, ΑΤΤΙΚΗ\, Greece
GEO:38.033914;23.795154
X-APPLE-STRUCTURED-LOCATION;VALUE=URI;X-ADDRESS=Λεωφ. Κηφισίας 
 37\, Μαρούσι\, Αθήνα\, 151 23\, ΑΤΤΙΚΗ\, Greece;X-APPLE-
 RADIUS=100;X-TITLE=ΟΛΥΜΠΙΑΚΟ ΑΘΛΗΤΙΚΟ ΚΕΝΤΡΟ ΑΘΗ
 ΝΩΝ “ΣΠΥΡΟΣ ΛΟΥΗΣ” - ΑΙΘΟΥΣΑ ΓΙΩΡΓΟΣ ΚΑ
 ΣΙΜΑΤΗΣ:geo:38.033914,23.795154
END:VEVENT
END:VCALENDAR