BEGIN:VCALENDAR
VERSION:2.0
PRODID:-//wp-events-plugin.com//7.2.3.1//EN
BEGIN:VEVENT
UID:1@medusaboxingseries.com
DTSTART;VALUE=DATE:20241013
DTEND;VALUE=DATE:20241014
DTSTAMP:20241009T144813Z
URL:https://medusaboxingseries.com/events/giorgos-pappas-vs-steven-esteban
 /
SUMMARY:ΓΙΩΡΓΟΣ ΠΑΠΠΑΣ VS STEVEN ESTEBAN
DESCRIPTION:Η Medusa Boxing Series καλωσορίζει στο ρινγ
 κ της δύο αθλητές πρώτης κλάσης!\n\nΑπό το 
 Κrataios Τeam έρχεται ο Πρωταθλητής Ελλάδος σ
 ε όποια κατηγορία και εάν αγωνίστηκε\, ΣΤ
 ΙΒΕΝ ΕΣΤΕΜΠΑΝ\, με προπονητή τον Κώστα Τζ
 ώτζο\, και αντιμετωπίζει τον τρεις φορές 
 Πρωταθλητή Ελλάδος ΓΙΩΡΓΟ ΠΑΠΠΑ\, που πρ
 οέρχεται από το Τeam Perseas με προπονητή τον 
 Μανώλη Λαβδάκη.\n\nΟι δύο αθλητές υπόσχον
 ται να μας χαρίσουν έναν θεαματικό αγώνα
 \, αντάξιο της φήμης τους!\n\nΟ πάντα ετοιμ
 οπόλεμος Στίβεν με την εκπληκτική ταχύτ
 ητα στα πόδια θα βάλει όλα του τα δυνατά 
 να επικρατήσει απέναντι στον Γιώργο\, πο
 υ φημίζεται για την εκρηκτικότητα και τη
 ν τεχνική του!\n\nΥπενθυμίζουμε ότι μέρος 
 των εσόδων της διοργάνωσης θα διατεθεί σ
 την υποστήριξη του Κέντρου ΔΙΟΤΙΜΑ\, που 
 παρέχει νομική και ψυχοκοινωνική βοήθει
 α σε γυναίκες που βιώνουν έμφυλη βία.
ATTACH;FMTTYPE=image/jpeg:https://medusaboxingseries.com/wp-content/upload
 s/2024/10/pappas-esteban.jpg
LOCATION:ΟΛΥΜΠΙΑΚΟ ΑΘΛΗΤΙΚΟ ΚΕΝΤΡΟ ΑΘΗΝΩΝ “
 ΣΠΥΡΟΣ ΛΟΥΗΣ” - ΑΙΘΟΥΣΑ ΓΙΩΡΓΟΣ ΚΑΣΙΜΑΤ
 ΗΣ\, Λεωφ. Κηφισίας 37\, Μαρούσι\, Αθήνα\, 151 2
 3\, ΑΤΤΙΚΗ\, Greece
GEO:38.033914;23.795154
X-APPLE-STRUCTURED-LOCATION;VALUE=URI;X-ADDRESS=Λεωφ. Κηφισίας 
 37\, Μαρούσι\, Αθήνα\, 151 23\, ΑΤΤΙΚΗ\, Greece;X-APPLE-
 RADIUS=100;X-TITLE=ΟΛΥΜΠΙΑΚΟ ΑΘΛΗΤΙΚΟ ΚΕΝΤΡΟ ΑΘΗ
 ΝΩΝ “ΣΠΥΡΟΣ ΛΟΥΗΣ” - ΑΙΘΟΥΣΑ ΓΙΩΡΓΟΣ ΚΑ
 ΣΙΜΑΤΗΣ:geo:38.033914,23.795154
END:VEVENT
END:VCALENDAR