BEGIN:VCALENDAR
VERSION:2.0
PRODID:-//wp-events-plugin.com//7.2.3.1//EN
BEGIN:VEVENT
UID:8@medusaboxingseries.com
DTSTART;VALUE=DATE:20241013
DTEND;VALUE=DATE:20241014
DTSTAMP:20241011T121046Z
URL:https://medusaboxingseries.com/events/konstantinos-toutsis-vs-giorgi-b
 eradze/
SUMMARY:ΚΩΝΣΤΑΝΤΙΝΟΣ ΤΟΥΤΣΗΣ VS GIORGI BERADZE
DESCRIPTION:H MEDUSA BOXING SERIES καλωσορίζει στο ρίνγκ
  της δύο ανερχόμενα αστέρια της πυγμαχία
 ς!\n\nΑπό τη Σαλαμίνα και με προπονητή τον 
 Χρήστο Γρηγορόπουλο έρχεται ο Κωνσταντί
 νος Τούτσης\, ασημένιος Πανελληνιονίκης 
 Εφήβων\, που αντιμετωπίζει τον Giorgi Beradze\, 
 έναν έμπειρο αθλητή από το @chatzis_cobra_team με 
 προπονητή το Βαγγέλη Χατζή!\n\nΑυτή η αναμ
 έτρηση θα είναι ένας τετράγυρος αγώνας σ
 τα 79 κιλά! Τα δύο παιδιά αγωνίζονται στον
  πρώτο τους επαγγελματικό αγώνα και υπόσ
 χονται να μας χαρίσουν εκπληκτικό θέαμα!
 \n\nΥπενθυμίζουμε ότι μέρος των εσόδων τη
 ς διοργάνωσης θα διατεθεί στην υποστήρι
 ξη του Κέντρου Διοτίμα\, που παρέχει νομι
 κή και ψυχοκοινωνική βοήθεια σε γυναίκε
 ς που βιώνουν έμφυλη βία.
ATTACH;FMTTYPE=image/jpeg:https://medusaboxingseries.com/wp-content/upload
 s/2024/10/toytsis-beranze.jpg
LOCATION:ΟΛΥΜΠΙΑΚΟ ΑΘΛΗΤΙΚΟ ΚΕΝΤΡΟ ΑΘΗΝΩΝ “
 ΣΠΥΡΟΣ ΛΟΥΗΣ” - ΑΙΘΟΥΣΑ ΓΙΩΡΓΟΣ ΚΑΣΙΜΑΤ
 ΗΣ\, Λεωφ. Κηφισίας 37\, Μαρούσι\, Αθήνα\, 151 2
 3\, ΑΤΤΙΚΗ\, Greece
GEO:38.033914;23.795154
X-APPLE-STRUCTURED-LOCATION;VALUE=URI;X-ADDRESS=Λεωφ. Κηφισίας 
 37\, Μαρούσι\, Αθήνα\, 151 23\, ΑΤΤΙΚΗ\, Greece;X-APPLE-
 RADIUS=100;X-TITLE=ΟΛΥΜΠΙΑΚΟ ΑΘΛΗΤΙΚΟ ΚΕΝΤΡΟ ΑΘΗ
 ΝΩΝ “ΣΠΥΡΟΣ ΛΟΥΗΣ” - ΑΙΘΟΥΣΑ ΓΙΩΡΓΟΣ ΚΑ
 ΣΙΜΑΤΗΣ:geo:38.033914,23.795154
END:VEVENT
END:VCALENDAR