BEGIN:VCALENDAR
VERSION:2.0
PRODID:-//wp-events-plugin.com//7.2.3.1//EN
BEGIN:VEVENT
UID:6@medusaboxingseries.com
DTSTART;VALUE=DATE:20241013
DTEND;VALUE=DATE:20241014
DTSTAMP:20241009T143509Z
URL:https://medusaboxingseries.com/events/korina-daponte-vs-christina-ntin
 opoulou/
SUMMARY:ΚΟΡΙΝΑ ΔΑΠΟΝΤΕ VS ΧΡΙΣΤΙΝΑ ΝΤΙΝΟΠΟΥΛ
 ΟΥ
DESCRIPTION:Η MEDUSA BOXING SERIES καλωσορίζει στο ρίνγ
 κ ακόμη έναν γυναικείο αγώνα μεταξύ δύο 
 αθλητριών\, αποδεικνύοντας ότι το μποξ δ
 εν είναι μόνο αντρική υπόθεση!\n\nΑπό το @ra
 w_boxingclub \, έρχεται η ΚΟΡΙΝΑ “THE HULK” ΔΑΠΟΝΤ
 Ε @korinadaponte \, με προπονητές τον Νίκο Στυλι
 άρα @styliaras_nikos και τον Ανδρέα Καλλίτση @andre
 as_kallitsis . Η Κορίνα θα αντιμετωπίσει την ΧΡ
 ΙΣΤΙΝΑ ΝΤΙΝΟΠΟΥΛΟΥ @christina_nti \, που έρχετα
 ι από το @oldschoolfightgym \, με προπονητή τον Βασ
 ίλη Ξερικό @vasxer \, σε έναν αγώνα 4 γύρων στ
 α 54 κιλά.\n\nΗ Κορίνα\, κάτοχος πολλών διακ
 ρίσεων\, μεταξύ των οποίων Πρωταθλήτρια 
 Ελλάδος σε κάθε κατηγορία που έχει αγωνι
 στεί\, και μέλος της Εθνικής Ομάδας Πυγμα
 χίας\, θα βρεθεί αντιμέτωπη με την Χριστί
 να\, μια εξαιρετικά έμπειρη αθλήτρια στα 
 μαχητικά αθλήματα\, Πρωταθλήτρια Ελλάδα
 ς και Πανευρωπαϊκή στο κικ μπόξινγκ\, με 
 σημαντική εμπειρία στην πυγμαχία!\n\nΤα δ
 ύο κορίτσια υπόσχονται έναν αγώνα που θα
  μας κόψει την ανάσα!\n\nΥπενθυμίζουμε ότι
  μέρος των εσόδων της διοργάνωσης θα δια
 τεθεί για την υποστήριξη του Κέντρου Διο
 τίμα\, το οποίο παρέχει νομική και ψυχοκο
 ινωνική βοήθεια σε γυναίκες που βιώνουν 
 έμφυλη βία.
ATTACH;FMTTYPE=image/jpeg:https://medusaboxingseries.com/wp-content/upload
 s/2024/10/daponte-ntinopoulou.jpg
LOCATION:ΟΛΥΜΠΙΑΚΟ ΑΘΛΗΤΙΚΟ ΚΕΝΤΡΟ ΑΘΗΝΩΝ “
 ΣΠΥΡΟΣ ΛΟΥΗΣ” - ΑΙΘΟΥΣΑ ΓΙΩΡΓΟΣ ΚΑΣΙΜΑΤ
 ΗΣ\, Λεωφ. Κηφισίας 37\, Μαρούσι\, Αθήνα\, 151 2
 3\, ΑΤΤΙΚΗ\, Greece
GEO:38.033914;23.795154
X-APPLE-STRUCTURED-LOCATION;VALUE=URI;X-ADDRESS=Λεωφ. Κηφισίας 
 37\, Μαρούσι\, Αθήνα\, 151 23\, ΑΤΤΙΚΗ\, Greece;X-APPLE-
 RADIUS=100;X-TITLE=ΟΛΥΜΠΙΑΚΟ ΑΘΛΗΤΙΚΟ ΚΕΝΤΡΟ ΑΘΗ
 ΝΩΝ “ΣΠΥΡΟΣ ΛΟΥΗΣ” - ΑΙΘΟΥΣΑ ΓΙΩΡΓΟΣ ΚΑ
 ΣΙΜΑΤΗΣ:geo:38.033914,23.795154
END:VEVENT
END:VCALENDAR