BEGIN:VCALENDAR
VERSION:2.0
PRODID:-//wp-events-plugin.com//7.2.3.1//EN
BEGIN:VEVENT
UID:7@medusaboxingseries.com
DTSTART;VALUE=DATE:20241013
DTEND;VALUE=DATE:20241014
DTSTAMP:20241009T143719Z
URL:https://medusaboxingseries.com/events/kostas-sarkiris-vs-angelos-katsa
 ras/
SUMMARY:ΚΩΣΤΑΣ ΣΑΡΚΙΡΗΣ VS ΑΓΓΕΛΟΣ ΚΑΤΣΑΡΑΣ
DESCRIPTION:Η MEDUSA BOXING SERIES καλωσορίζει στο ρινγ
 κ της τον ΚΩΣΤΑ ΣΑΡΚΙΡΗ @sarkiris \, που έρχετ
 αι από το @team_perseas \, με προπονητές τον Μαν
 ώλη Λαβδάκη @manolis_lavdakis και τον Μιχάλη Αρν
 αούτη και αντιμετωπίζει σε έναν τετράγυ
 ρο αγώνα στα 63\,5 κιλά\, τον αθλητή ΑΓΓΕΛΟ 
 ΚΑΤΣΑΡΑ @aggelos.katsaras \, που έρχεται από το @myr
 midons sports club\, με προπονητή τον Αλέξανδρο Κ
 υρσανίδη @kirsanidisalexandros\nΟ Άγγελος Κατσάρας
 \, ένα ανερχόμενο ταλέντο στο άθλημα της 
 πυγμαχίας με πυγμή και πολλά κότσια\, αγω
 νίζεται απέναντι στον πολύπειρο καρχαρί
 α των μαχητικών αθλημάτων Κώστα Σαρκίρη\
 , ο οποίος δεν χρειάζεται συστάσεις\, καθ
 ώς υπήρξε πρωταθλητής και στην πυγμαχία 
 και σε άλλα μαχητικά αθλήματα από πολύ μ
 ικρή ηλικία!\nΟ νέος λοιπόν απέναντι στον
  “παλιό” σε έναν αγώνα που μπορεί να επι
 φυλάξει εκπλήξεις!\nΥπενθυμίζουμε ότι μέ
 ρος των εσόδων της διοργάνωσης θα διατεθ
 εί στην υποστήριξη του Κέντρου Διοτίμα\, 
 που παρέχει νομική και ψυχοκοινωνική βο
 ήθεια σε γυναίκες που βιώνουν έμφυλη βία
 .
ATTACH;FMTTYPE=image/jpeg:https://medusaboxingseries.com/wp-content/upload
 s/2024/10/sarkiris-katsaras.jpg
LOCATION:ΟΛΥΜΠΙΑΚΟ ΑΘΛΗΤΙΚΟ ΚΕΝΤΡΟ ΑΘΗΝΩΝ “
 ΣΠΥΡΟΣ ΛΟΥΗΣ” - ΑΙΘΟΥΣΑ ΓΙΩΡΓΟΣ ΚΑΣΙΜΑΤ
 ΗΣ\, Λεωφ. Κηφισίας 37\, Μαρούσι\, Αθήνα\, 151 2
 3\, ΑΤΤΙΚΗ\, Greece
GEO:38.033914;23.795154
X-APPLE-STRUCTURED-LOCATION;VALUE=URI;X-ADDRESS=Λεωφ. Κηφισίας 
 37\, Μαρούσι\, Αθήνα\, 151 23\, ΑΤΤΙΚΗ\, Greece;X-APPLE-
 RADIUS=100;X-TITLE=ΟΛΥΜΠΙΑΚΟ ΑΘΛΗΤΙΚΟ ΚΕΝΤΡΟ ΑΘΗ
 ΝΩΝ “ΣΠΥΡΟΣ ΛΟΥΗΣ” - ΑΙΘΟΥΣΑ ΓΙΩΡΓΟΣ ΚΑ
 ΣΙΜΑΤΗΣ:geo:38.033914,23.795154
END:VEVENT
END:VCALENDAR