BEGIN:VCALENDAR
VERSION:2.0
PRODID:-//wp-events-plugin.com//7.2.3.1//EN
BEGIN:VEVENT
UID:3@medusaboxingseries.com
DTSTART;VALUE=DATE:20241013
DTEND;VALUE=DATE:20241014
DTSTAMP:20241009T142744Z
URL:https://medusaboxingseries.com/events/panos-papanikolaou-vs-petros-ali
 fantaros/
SUMMARY:ΠΑΝΟΣ ΠΑΠΑΝΙΚΟΛΑΟΥ VS ΠΕΤΡΟΣ ΑΛΗΦΑΝΤ
 ΑΡΟΣ
DESCRIPTION:Η Medusa Boxing Series καλωσορίζει στο ρινγ
 κ έναν συναρπαστικό αγώνα μεταξύ δύο αθλ
 ητών που διακρίθηκαν ως πανελλήνιοι πρω
 ταθλητές και κτίζουν πλέον την εμπειρία 
 τους και στην επαγγελματική πυγμαχία!\n\n
 Ο θεαματικός Πάνος Παπανικολάου έρχεται
  από την ομάδα του Raw Boxing Club με προπονητή 
 τον Στυλιαρά Νίκο\, να αντιμετωπίσει τον 
 σκληρό Πέτρο Αληφάνταρο του Andreadis Boxing Club 
 με προπονητή τον Νίκο Ανδρεάδη σε έναν τ
 ετράγυρο αγώνα στα 71 κιλά!\n\nΤο θέαμα ανα
 μένεται απίστευτο\, με την αδρεναλίνη να 
 χτυπήσει κόκκινο!
ATTACH;FMTTYPE=image/jpeg:https://medusaboxingseries.com/wp-content/upload
 s/2024/10/papanikolaou-alifantaros.jpg
LOCATION:ΟΛΥΜΠΙΑΚΟ ΑΘΛΗΤΙΚΟ ΚΕΝΤΡΟ ΑΘΗΝΩΝ “
 ΣΠΥΡΟΣ ΛΟΥΗΣ” - ΑΙΘΟΥΣΑ ΓΙΩΡΓΟΣ ΚΑΣΙΜΑΤ
 ΗΣ\, Λεωφ. Κηφισίας 37\, Μαρούσι\, Αθήνα\, 151 2
 3\, ΑΤΤΙΚΗ\, Greece
GEO:38.033914;23.795154
X-APPLE-STRUCTURED-LOCATION;VALUE=URI;X-ADDRESS=Λεωφ. Κηφισίας 
 37\, Μαρούσι\, Αθήνα\, 151 23\, ΑΤΤΙΚΗ\, Greece;X-APPLE-
 RADIUS=100;X-TITLE=ΟΛΥΜΠΙΑΚΟ ΑΘΛΗΤΙΚΟ ΚΕΝΤΡΟ ΑΘΗ
 ΝΩΝ “ΣΠΥΡΟΣ ΛΟΥΗΣ” - ΑΙΘΟΥΣΑ ΓΙΩΡΓΟΣ ΚΑ
 ΣΙΜΑΤΗΣ:geo:38.033914,23.795154
END:VEVENT
END:VCALENDAR